BEGIN:VCALENDAR
VERSION:2.0
PRODID:-//MIĘSIEŃ SPOŁECZNY - ECPv6.15.18//NONSGML v1.0//EN
CALSCALE:GREGORIAN
METHOD:PUBLISH
X-WR-CALNAME:MIĘSIEŃ SPOŁECZNY
X-ORIGINAL-URL:https://miesienspoleczny.pl
X-WR-CALDESC:Wydarzenia dla MIĘSIEŃ SPOŁECZNY
REFRESH-INTERVAL;VALUE=DURATION:PT1H
X-Robots-Tag:noindex
X-PUBLISHED-TTL:PT1H
BEGIN:VTIMEZONE
TZID:Europe/Warsaw
BEGIN:DAYLIGHT
TZOFFSETFROM:+0100
TZOFFSETTO:+0200
TZNAME:CEST
DTSTART:20240331T010000
END:DAYLIGHT
BEGIN:STANDARD
TZOFFSETFROM:+0200
TZOFFSETTO:+0100
TZNAME:CET
DTSTART:20241027T010000
END:STANDARD
BEGIN:DAYLIGHT
TZOFFSETFROM:+0100
TZOFFSETTO:+0200
TZNAME:CEST
DTSTART:20250330T010000
END:DAYLIGHT
BEGIN:STANDARD
TZOFFSETFROM:+0200
TZOFFSETTO:+0100
TZNAME:CET
DTSTART:20251026T010000
END:STANDARD
BEGIN:DAYLIGHT
TZOFFSETFROM:+0100
TZOFFSETTO:+0200
TZNAME:CEST
DTSTART:20260329T010000
END:DAYLIGHT
BEGIN:STANDARD
TZOFFSETFROM:+0200
TZOFFSETTO:+0100
TZNAME:CET
DTSTART:20261025T010000
END:STANDARD
END:VTIMEZONE
BEGIN:VEVENT
DTSTART;TZID=Europe/Warsaw:20251004T110000
DTEND;TZID=Europe/Warsaw:20251004T140000
DTSTAMP:20260419T141533
CREATED:20250813T225159Z
LAST-MODIFIED:20250918T142811Z
UID:1151-1759575600-1759586400@miesienspoleczny.pl
SUMMARY:Gra terenowa "Na tropie harcerzy"
DESCRIPTION:Przystanek Zielono!				\n				\n					\n				\n		\n				\n																\n															\n															\n		\n				\n									Data: 								\n				\n				\n					\n		\n			20 września\, 2025\n\n	\n\n	  @ \n\n\n12:00\n\n		\n\n\n\n	\n	  -  \n\n16:00\n\n\n\n	\n				\n				\n				\n									Organizator: 								\n				\n				\n					\n	\n	Sołectwo Kiełczów\n	Mięsień Społeczny\n				\n				\n				\n									Miejsce: 								\n				\n				\n					\n				\n				\n	\n	Kościół NMP Różańcowej\n	\n	\n\nWrocławska 79\n	\n		\n		Kiełczów\,\n\n	Dolnośląskie\n\n	55-093\n\n	Poland\n\n\n\n\n	+ Mapa Google \n\n\n	\n					\n						\n	 \n\n\n	\n	 \n\n\n\n	\n\n\n\n		\n	\n				\n				\n				\n				\n					\n	\n		\n\n	\n	Dodaj do kalendarza	\n		\n	\n\n		\n			\n									\n	Kalendarz Google\n\n									\n	iKalendarz\n\n									\n	Outlook 365\n\n									\n	Outlook na żywo\n\n							\n		\n\n		\n	\n\n				\n				\n				\n				\n		\n					\n				\n									„Przystanek Zielono” w Kiełczowie to nie tylko zwykła inicjatywa lokalna – to próba zmiany terenu w centrum Kiełczowa\, które jest naszą wizytówką. Projekt Rady Sołeckiej we współpracy z Fundacją „Merkury” oraz pomysłem Weroniki Kierzkowskiej z Mięśnia z hasłem „Szanuj zieleń i… przystanek” – ma na celu dodanie smutnemu i betonowemu miejscu trochę nowego życia. Czym dokładnie się zajmiemy?– Montażem trejażu dla pnączy\, który nie tylko ozdobi\, ale i stworzy naturalną osłonę od słońca– przygotowaniem gleby i zasadzeniem roślin\,– posadowieniem donic z kwiatami.Będzie też czas na integrację mieszkańców – rozmowy i wymianę doświadczeń przy drobnym poczęstunku. Zapraszamy do wspólnego działania! Nasza inicjatywa (pierwsza w tym obszarze\, ale nie ostatnia!) to okazja\, aby:– poprawić estetykę i klimat centralnego miejsca Kiełczowa\,– przełamać betonowy charakter przestrzeni\,– zwiększyć komfort osób oczekujących na przystanku– zacieśnić więzi sąsiedzkie przy wspólnej pracy\, rozmowie i słodkim poczęstunku. Do zobaczenia 20 września o godzinie 12:00 na parkingu przy parafii pw. NMP Różańcowej! Każda pomoc się liczy! Strona projektu Link do wydarzenia na Facebook
URL:https://miesienspoleczny.pl/wydarzenie/gra-terenowa-z-harcerzami/
LOCATION:Obiekt Leśna Wilczyce/Kiełczów\, Leśna 3A\, Kiełczów\, 55-093\, Poland
ATTACH;FMTTYPE=image/jpeg:https://miesienspoleczny.pl/wp-content/uploads/2025/08/harcerze.jpg
END:VEVENT
BEGIN:VEVENT
DTSTART;TZID=Europe/Warsaw:20250928T130000
DTEND;TZID=Europe/Warsaw:20250928T180000
DTSTAMP:20260419T141534
CREATED:20250813T121419Z
LAST-MODIFIED:20250918T141355Z
UID:1012-1759064400-1759082400@miesienspoleczny.pl
SUMMARY:Kiełczowski Festyn Rodzinny
DESCRIPTION:Przystanek Zielono!				\n				\n					\n				\n		\n				\n																\n															\n															\n		\n				\n									Data: 								\n				\n				\n					\n		\n			20 września\, 2025\n\n	\n\n	  @ \n\n\n12:00\n\n		\n\n\n\n	\n	  -  \n\n16:00\n\n\n\n	\n				\n				\n				\n									Organizator: 								\n				\n				\n					\n	\n	Sołectwo Kiełczów\n	Mięsień Społeczny\n				\n				\n				\n									Miejsce: 								\n				\n				\n					\n				\n				\n	\n	Kościół NMP Różańcowej\n	\n	\n\nWrocławska 79\n	\n		\n		Kiełczów\,\n\n	Dolnośląskie\n\n	55-093\n\n	Poland\n\n\n\n\n	+ Mapa Google \n\n\n	\n					\n						\n	 \n\n\n	\n	 \n\n\n\n	\n\n\n\n		\n	\n				\n				\n				\n				\n					\n	\n		\n\n	\n	Dodaj do kalendarza	\n		\n	\n\n		\n			\n									\n	Kalendarz Google\n\n									\n	iKalendarz\n\n									\n	Outlook 365\n\n									\n	Outlook na żywo\n\n							\n		\n\n		\n	\n\n				\n				\n				\n				\n		\n					\n				\n									„Przystanek Zielono” w Kiełczowie to nie tylko zwykła inicjatywa lokalna – to próba zmiany terenu w centrum Kiełczowa\, które jest naszą wizytówką. Projekt Rady Sołeckiej we współpracy z Fundacją „Merkury” oraz pomysłem Weroniki Kierzkowskiej z Mięśnia z hasłem „Szanuj zieleń i… przystanek” – ma na celu dodanie smutnemu i betonowemu miejscu trochę nowego życia. Czym dokładnie się zajmiemy?– Montażem trejażu dla pnączy\, który nie tylko ozdobi\, ale i stworzy naturalną osłonę od słońca– przygotowaniem gleby i zasadzeniem roślin\,– posadowieniem donic z kwiatami.Będzie też czas na integrację mieszkańców – rozmowy i wymianę doświadczeń przy drobnym poczęstunku. Zapraszamy do wspólnego działania! Nasza inicjatywa (pierwsza w tym obszarze\, ale nie ostatnia!) to okazja\, aby:– poprawić estetykę i klimat centralnego miejsca Kiełczowa\,– przełamać betonowy charakter przestrzeni\,– zwiększyć komfort osób oczekujących na przystanku– zacieśnić więzi sąsiedzkie przy wspólnej pracy\, rozmowie i słodkim poczęstunku. Do zobaczenia 20 września o godzinie 12:00 na parkingu przy parafii pw. NMP Różańcowej! Każda pomoc się liczy! Strona projektu Link do wydarzenia na Facebook
URL:https://miesienspoleczny.pl/wydarzenie/festyn-kielczowski/
LOCATION:Kościół NMP Różańcowej\, Wrocławska 79\, Kiełczów\, Dolnośląskie\, 55-093\, Poland
ATTACH;FMTTYPE=image/jpeg:https://miesienspoleczny.pl/wp-content/uploads/2025/08/festyn-zajawka.jpg
END:VEVENT
BEGIN:VEVENT
DTSTART;TZID=Europe/Warsaw:20250920T120000
DTEND;TZID=Europe/Warsaw:20250920T160000
DTSTAMP:20260419T141534
CREATED:20250910T143554Z
LAST-MODIFIED:20250910T143730Z
UID:1321-1758369600-1758384000@miesienspoleczny.pl
SUMMARY:Przystanek Zielono!
DESCRIPTION:Przystanek Zielono!				\n				\n					\n				\n		\n				\n																\n															\n															\n		\n				\n									Data: 								\n				\n				\n					\n		\n			20 września\, 2025\n\n	\n\n	  @ \n\n\n12:00\n\n		\n\n\n\n	\n	  -  \n\n16:00\n\n\n\n	\n				\n				\n				\n									Organizator: 								\n				\n				\n					\n	\n	Sołectwo Kiełczów\n	Mięsień Społeczny\n				\n				\n				\n									Miejsce: 								\n				\n				\n					\n				\n				\n	\n	Kościół NMP Różańcowej\n	\n	\n\nWrocławska 79\n	\n		\n		Kiełczów\,\n\n	Dolnośląskie\n\n	55-093\n\n	Poland\n\n\n\n\n	+ Mapa Google \n\n\n	\n					\n						\n	 \n\n\n	\n	 \n\n\n\n	\n\n\n\n		\n	\n				\n				\n				\n				\n					\n	\n		\n\n	\n	Dodaj do kalendarza	\n		\n	\n\n		\n			\n									\n	Kalendarz Google\n\n									\n	iKalendarz\n\n									\n	Outlook 365\n\n									\n	Outlook na żywo\n\n							\n		\n\n		\n	\n\n				\n				\n				\n				\n		\n					\n				\n									„Przystanek Zielono” w Kiełczowie to nie tylko zwykła inicjatywa lokalna – to próba zmiany terenu w centrum Kiełczowa\, które jest naszą wizytówką. Projekt Rady Sołeckiej we współpracy z Fundacją „Merkury” oraz pomysłem Weroniki Kierzkowskiej z Mięśnia z hasłem „Szanuj zieleń i… przystanek” – ma na celu dodanie smutnemu i betonowemu miejscu trochę nowego życia. Czym dokładnie się zajmiemy?– Montażem trejażu dla pnączy\, który nie tylko ozdobi\, ale i stworzy naturalną osłonę od słońca– przygotowaniem gleby i zasadzeniem roślin\,– posadowieniem donic z kwiatami.Będzie też czas na integrację mieszkańców – rozmowy i wymianę doświadczeń przy drobnym poczęstunku. Zapraszamy do wspólnego działania! Nasza inicjatywa (pierwsza w tym obszarze\, ale nie ostatnia!) to okazja\, aby:– poprawić estetykę i klimat centralnego miejsca Kiełczowa\,– przełamać betonowy charakter przestrzeni\,– zwiększyć komfort osób oczekujących na przystanku– zacieśnić więzi sąsiedzkie przy wspólnej pracy\, rozmowie i słodkim poczęstunku. Do zobaczenia 20 września o godzinie 12:00 na parkingu przy parafii pw. NMP Różańcowej! Każda pomoc się liczy! Strona projektu Link do wydarzenia na Facebook
URL:https://miesienspoleczny.pl/wydarzenie/przystanek-zielono/
LOCATION:Kościół NMP Różańcowej\, Wrocławska 79\, Kiełczów\, Dolnośląskie\, 55-093\, Poland
ATTACH;FMTTYPE=image/jpeg:https://miesienspoleczny.pl/wp-content/uploads/2025/09/przystanek-zajawka.jpg
END:VEVENT
BEGIN:VEVENT
DTSTART;TZID=Europe/Warsaw:20250918T180000
DTEND;TZID=Europe/Warsaw:20250918T200000
DTSTAMP:20260419T141534
CREATED:20250813T121733Z
LAST-MODIFIED:20250829T110529Z
UID:1018-1758218400-1758225600@miesienspoleczny.pl
SUMMARY:Zebranie Wiejskie
DESCRIPTION:Przystanek Zielono!				\n				\n					\n				\n		\n				\n																\n															\n															\n		\n				\n									Data: 								\n				\n				\n					\n		\n			20 września\, 2025\n\n	\n\n	  @ \n\n\n12:00\n\n		\n\n\n\n	\n	  -  \n\n16:00\n\n\n\n	\n				\n				\n				\n									Organizator: 								\n				\n				\n					\n	\n	Sołectwo Kiełczów\n	Mięsień Społeczny\n				\n				\n				\n									Miejsce: 								\n				\n				\n					\n				\n				\n	\n	Kościół NMP Różańcowej\n	\n	\n\nWrocławska 79\n	\n		\n		Kiełczów\,\n\n	Dolnośląskie\n\n	55-093\n\n	Poland\n\n\n\n\n	+ Mapa Google \n\n\n	\n					\n						\n	 \n\n\n	\n	 \n\n\n\n	\n\n\n\n		\n	\n				\n				\n				\n				\n					\n	\n		\n\n	\n	Dodaj do kalendarza	\n		\n	\n\n		\n			\n									\n	Kalendarz Google\n\n									\n	iKalendarz\n\n									\n	Outlook 365\n\n									\n	Outlook na żywo\n\n							\n		\n\n		\n	\n\n				\n				\n				\n				\n		\n					\n				\n									„Przystanek Zielono” w Kiełczowie to nie tylko zwykła inicjatywa lokalna – to próba zmiany terenu w centrum Kiełczowa\, które jest naszą wizytówką. Projekt Rady Sołeckiej we współpracy z Fundacją „Merkury” oraz pomysłem Weroniki Kierzkowskiej z Mięśnia z hasłem „Szanuj zieleń i… przystanek” – ma na celu dodanie smutnemu i betonowemu miejscu trochę nowego życia. Czym dokładnie się zajmiemy?– Montażem trejażu dla pnączy\, który nie tylko ozdobi\, ale i stworzy naturalną osłonę od słońca– przygotowaniem gleby i zasadzeniem roślin\,– posadowieniem donic z kwiatami.Będzie też czas na integrację mieszkańców – rozmowy i wymianę doświadczeń przy drobnym poczęstunku. Zapraszamy do wspólnego działania! Nasza inicjatywa (pierwsza w tym obszarze\, ale nie ostatnia!) to okazja\, aby:– poprawić estetykę i klimat centralnego miejsca Kiełczowa\,– przełamać betonowy charakter przestrzeni\,– zwiększyć komfort osób oczekujących na przystanku– zacieśnić więzi sąsiedzkie przy wspólnej pracy\, rozmowie i słodkim poczęstunku. Do zobaczenia 20 września o godzinie 12:00 na parkingu przy parafii pw. NMP Różańcowej! Każda pomoc się liczy! Strona projektu Link do wydarzenia na Facebook
URL:https://miesienspoleczny.pl/wydarzenie/zebranie-wiejskie/
LOCATION:Szkoła podstawowa im. Wandy Chotomskiej\, Szkolna 3\, Kiełczów\, Dolnośląskie\, 55-093\, Poland
ATTACH;FMTTYPE=image/jpeg:https://miesienspoleczny.pl/wp-content/uploads/2025/08/zebranie-zajawka.jpg
END:VEVENT
BEGIN:VEVENT
DTSTART;TZID=Europe/Warsaw:20250913T100000
DTEND;TZID=Europe/Warsaw:20250920T180000
DTSTAMP:20260419T141534
CREATED:20250829T195224Z
LAST-MODIFIED:20250829T200102Z
UID:1271-1757757600-1758391200@miesienspoleczny.pl
SUMMARY:DOBROSZÓW OPEN 2025
DESCRIPTION:Przystanek Zielono!				\n				\n					\n				\n		\n				\n																\n															\n															\n		\n				\n									Data: 								\n				\n				\n					\n		\n			20 września\, 2025\n\n	\n\n	  @ \n\n\n12:00\n\n		\n\n\n\n	\n	  -  \n\n16:00\n\n\n\n	\n				\n				\n				\n									Organizator: 								\n				\n				\n					\n	\n	Sołectwo Kiełczów\n	Mięsień Społeczny\n				\n				\n				\n									Miejsce: 								\n				\n				\n					\n				\n				\n	\n	Kościół NMP Różańcowej\n	\n	\n\nWrocławska 79\n	\n		\n		Kiełczów\,\n\n	Dolnośląskie\n\n	55-093\n\n	Poland\n\n\n\n\n	+ Mapa Google \n\n\n	\n					\n						\n	 \n\n\n	\n	 \n\n\n\n	\n\n\n\n		\n	\n				\n				\n				\n				\n					\n	\n		\n\n	\n	Dodaj do kalendarza	\n		\n	\n\n		\n			\n									\n	Kalendarz Google\n\n									\n	iKalendarz\n\n									\n	Outlook 365\n\n									\n	Outlook na żywo\n\n							\n		\n\n		\n	\n\n				\n				\n				\n				\n		\n					\n				\n									„Przystanek Zielono” w Kiełczowie to nie tylko zwykła inicjatywa lokalna – to próba zmiany terenu w centrum Kiełczowa\, które jest naszą wizytówką. Projekt Rady Sołeckiej we współpracy z Fundacją „Merkury” oraz pomysłem Weroniki Kierzkowskiej z Mięśnia z hasłem „Szanuj zieleń i… przystanek” – ma na celu dodanie smutnemu i betonowemu miejscu trochę nowego życia. Czym dokładnie się zajmiemy?– Montażem trejażu dla pnączy\, który nie tylko ozdobi\, ale i stworzy naturalną osłonę od słońca– przygotowaniem gleby i zasadzeniem roślin\,– posadowieniem donic z kwiatami.Będzie też czas na integrację mieszkańców – rozmowy i wymianę doświadczeń przy drobnym poczęstunku. Zapraszamy do wspólnego działania! Nasza inicjatywa (pierwsza w tym obszarze\, ale nie ostatnia!) to okazja\, aby:– poprawić estetykę i klimat centralnego miejsca Kiełczowa\,– przełamać betonowy charakter przestrzeni\,– zwiększyć komfort osób oczekujących na przystanku– zacieśnić więzi sąsiedzkie przy wspólnej pracy\, rozmowie i słodkim poczęstunku. Do zobaczenia 20 września o godzinie 12:00 na parkingu przy parafii pw. NMP Różańcowej! Każda pomoc się liczy! Strona projektu Link do wydarzenia na Facebook
URL:https://miesienspoleczny.pl/wydarzenie/dobroszow-open-2025/
LOCATION:Dobroszów Oleśnicki\, Dobroszów Oleśnicki\, Dolnośląskie\, 55-095\, Poland
ATTACH;FMTTYPE=image/jpeg:https://miesienspoleczny.pl/wp-content/uploads/2025/08/tenis-zajawka.jpg
END:VEVENT
BEGIN:VEVENT
DTSTART;TZID=Europe/Warsaw:20250906T100000
DTEND;TZID=Europe/Warsaw:20250906T150000
DTSTAMP:20260419T141534
CREATED:20250829T112206Z
LAST-MODIFIED:20250829T113242Z
UID:1265-1757152800-1757170800@miesienspoleczny.pl
SUMMARY:Bieg charytatywny dla Wiktorii i Wojtka
DESCRIPTION:Przystanek Zielono!				\n				\n					\n				\n		\n				\n																\n															\n															\n		\n				\n									Data: 								\n				\n				\n					\n		\n			20 września\, 2025\n\n	\n\n	  @ \n\n\n12:00\n\n		\n\n\n\n	\n	  -  \n\n16:00\n\n\n\n	\n				\n				\n				\n									Organizator: 								\n				\n				\n					\n	\n	Sołectwo Kiełczów\n	Mięsień Społeczny\n				\n				\n				\n									Miejsce: 								\n				\n				\n					\n				\n				\n	\n	Kościół NMP Różańcowej\n	\n	\n\nWrocławska 79\n	\n		\n		Kiełczów\,\n\n	Dolnośląskie\n\n	55-093\n\n	Poland\n\n\n\n\n	+ Mapa Google \n\n\n	\n					\n						\n	 \n\n\n	\n	 \n\n\n\n	\n\n\n\n		\n	\n				\n				\n				\n				\n					\n	\n		\n\n	\n	Dodaj do kalendarza	\n		\n	\n\n		\n			\n									\n	Kalendarz Google\n\n									\n	iKalendarz\n\n									\n	Outlook 365\n\n									\n	Outlook na żywo\n\n							\n		\n\n		\n	\n\n				\n				\n				\n				\n		\n					\n				\n									„Przystanek Zielono” w Kiełczowie to nie tylko zwykła inicjatywa lokalna – to próba zmiany terenu w centrum Kiełczowa\, które jest naszą wizytówką. Projekt Rady Sołeckiej we współpracy z Fundacją „Merkury” oraz pomysłem Weroniki Kierzkowskiej z Mięśnia z hasłem „Szanuj zieleń i… przystanek” – ma na celu dodanie smutnemu i betonowemu miejscu trochę nowego życia. Czym dokładnie się zajmiemy?– Montażem trejażu dla pnączy\, który nie tylko ozdobi\, ale i stworzy naturalną osłonę od słońca– przygotowaniem gleby i zasadzeniem roślin\,– posadowieniem donic z kwiatami.Będzie też czas na integrację mieszkańców – rozmowy i wymianę doświadczeń przy drobnym poczęstunku. Zapraszamy do wspólnego działania! Nasza inicjatywa (pierwsza w tym obszarze\, ale nie ostatnia!) to okazja\, aby:– poprawić estetykę i klimat centralnego miejsca Kiełczowa\,– przełamać betonowy charakter przestrzeni\,– zwiększyć komfort osób oczekujących na przystanku– zacieśnić więzi sąsiedzkie przy wspólnej pracy\, rozmowie i słodkim poczęstunku. Do zobaczenia 20 września o godzinie 12:00 na parkingu przy parafii pw. NMP Różańcowej! Każda pomoc się liczy! Strona projektu Link do wydarzenia na Facebook
URL:https://miesienspoleczny.pl/wydarzenie/bieg-charytatywny-dla-wiktorii-i-wojtka/
LOCATION:Park Szczodre\, Stawowa 6\, Szczodre\, Dolnośląskie\, 55-095\, Poland
ATTACH;FMTTYPE=image/jpeg:https://miesienspoleczny.pl/wp-content/uploads/2025/08/bieg-zajawka.jpg
END:VEVENT
BEGIN:VEVENT
DTSTART;VALUE=DATE:20250831
DTEND;VALUE=DATE:20250901
DTSTAMP:20260419T141534
CREATED:20250813T140540Z
LAST-MODIFIED:20250816T230030Z
UID:1031-1756598400-1756684799@miesienspoleczny.pl
SUMMARY:Gminne Dożynki 2025
DESCRIPTION:Przystanek Zielono!				\n				\n					\n				\n		\n				\n																\n															\n															\n		\n				\n									Data: 								\n				\n				\n					\n		\n			20 września\, 2025\n\n	\n\n	  @ \n\n\n12:00\n\n		\n\n\n\n	\n	  -  \n\n16:00\n\n\n\n	\n				\n				\n				\n									Organizator: 								\n				\n				\n					\n	\n	Sołectwo Kiełczów\n	Mięsień Społeczny\n				\n				\n				\n									Miejsce: 								\n				\n				\n					\n				\n				\n	\n	Kościół NMP Różańcowej\n	\n	\n\nWrocławska 79\n	\n		\n		Kiełczów\,\n\n	Dolnośląskie\n\n	55-093\n\n	Poland\n\n\n\n\n	+ Mapa Google \n\n\n	\n					\n						\n	 \n\n\n	\n	 \n\n\n\n	\n\n\n\n		\n	\n				\n				\n				\n				\n					\n	\n		\n\n	\n	Dodaj do kalendarza	\n		\n	\n\n		\n			\n									\n	Kalendarz Google\n\n									\n	iKalendarz\n\n									\n	Outlook 365\n\n									\n	Outlook na żywo\n\n							\n		\n\n		\n	\n\n				\n				\n				\n				\n		\n					\n				\n									„Przystanek Zielono” w Kiełczowie to nie tylko zwykła inicjatywa lokalna – to próba zmiany terenu w centrum Kiełczowa\, które jest naszą wizytówką. Projekt Rady Sołeckiej we współpracy z Fundacją „Merkury” oraz pomysłem Weroniki Kierzkowskiej z Mięśnia z hasłem „Szanuj zieleń i… przystanek” – ma na celu dodanie smutnemu i betonowemu miejscu trochę nowego życia. Czym dokładnie się zajmiemy?– Montażem trejażu dla pnączy\, który nie tylko ozdobi\, ale i stworzy naturalną osłonę od słońca– przygotowaniem gleby i zasadzeniem roślin\,– posadowieniem donic z kwiatami.Będzie też czas na integrację mieszkańców – rozmowy i wymianę doświadczeń przy drobnym poczęstunku. Zapraszamy do wspólnego działania! Nasza inicjatywa (pierwsza w tym obszarze\, ale nie ostatnia!) to okazja\, aby:– poprawić estetykę i klimat centralnego miejsca Kiełczowa\,– przełamać betonowy charakter przestrzeni\,– zwiększyć komfort osób oczekujących na przystanku– zacieśnić więzi sąsiedzkie przy wspólnej pracy\, rozmowie i słodkim poczęstunku. Do zobaczenia 20 września o godzinie 12:00 na parkingu przy parafii pw. NMP Różańcowej! Każda pomoc się liczy! Strona projektu Link do wydarzenia na Facebook
URL:https://miesienspoleczny.pl/wydarzenie/gminne-dozynki-2025/
LOCATION:Park Szczodre\, Stawowa 6\, Szczodre\, Dolnośląskie\, 55-095\, Poland
ATTACH;FMTTYPE=image/jpeg:https://miesienspoleczny.pl/wp-content/uploads/2025/08/Dozynki-2025.jpg
END:VEVENT
BEGIN:VEVENT
DTSTART;TZID=Europe/Warsaw:20250830T150000
DTEND;TZID=Europe/Warsaw:20250830T233000
DTSTAMP:20260419T141534
CREATED:20250718T193323Z
LAST-MODIFIED:20250813T111905Z
UID:85-1756566000-1756596600@miesienspoleczny.pl
SUMMARY:Letnie kino plenerowe
DESCRIPTION:Przystanek Zielono!				\n				\n					\n				\n		\n				\n																\n															\n															\n		\n				\n									Data: 								\n				\n				\n					\n		\n			20 września\, 2025\n\n	\n\n	  @ \n\n\n12:00\n\n		\n\n\n\n	\n	  -  \n\n16:00\n\n\n\n	\n				\n				\n				\n									Organizator: 								\n				\n				\n					\n	\n	Sołectwo Kiełczów\n	Mięsień Społeczny\n				\n				\n				\n									Miejsce: 								\n				\n				\n					\n				\n				\n	\n	Kościół NMP Różańcowej\n	\n	\n\nWrocławska 79\n	\n		\n		Kiełczów\,\n\n	Dolnośląskie\n\n	55-093\n\n	Poland\n\n\n\n\n	+ Mapa Google \n\n\n	\n					\n						\n	 \n\n\n	\n	 \n\n\n\n	\n\n\n\n		\n	\n				\n				\n				\n				\n					\n	\n		\n\n	\n	Dodaj do kalendarza	\n		\n	\n\n		\n			\n									\n	Kalendarz Google\n\n									\n	iKalendarz\n\n									\n	Outlook 365\n\n									\n	Outlook na żywo\n\n							\n		\n\n		\n	\n\n				\n				\n				\n				\n		\n					\n				\n									„Przystanek Zielono” w Kiełczowie to nie tylko zwykła inicjatywa lokalna – to próba zmiany terenu w centrum Kiełczowa\, które jest naszą wizytówką. Projekt Rady Sołeckiej we współpracy z Fundacją „Merkury” oraz pomysłem Weroniki Kierzkowskiej z Mięśnia z hasłem „Szanuj zieleń i… przystanek” – ma na celu dodanie smutnemu i betonowemu miejscu trochę nowego życia. Czym dokładnie się zajmiemy?– Montażem trejażu dla pnączy\, który nie tylko ozdobi\, ale i stworzy naturalną osłonę od słońca– przygotowaniem gleby i zasadzeniem roślin\,– posadowieniem donic z kwiatami.Będzie też czas na integrację mieszkańców – rozmowy i wymianę doświadczeń przy drobnym poczęstunku. Zapraszamy do wspólnego działania! Nasza inicjatywa (pierwsza w tym obszarze\, ale nie ostatnia!) to okazja\, aby:– poprawić estetykę i klimat centralnego miejsca Kiełczowa\,– przełamać betonowy charakter przestrzeni\,– zwiększyć komfort osób oczekujących na przystanku– zacieśnić więzi sąsiedzkie przy wspólnej pracy\, rozmowie i słodkim poczęstunku. Do zobaczenia 20 września o godzinie 12:00 na parkingu przy parafii pw. NMP Różańcowej! Każda pomoc się liczy! Strona projektu Link do wydarzenia na Facebook
URL:https://miesienspoleczny.pl/wydarzenie/kino-letnie/
LOCATION:Rodzinny Ogród Działkowy SEZAM\, 45V4+3G Kiełczów\, Kiełczów\, Dolnośląskie\, 55-093\, Poland
ATTACH;FMTTYPE=image/jpeg:https://miesienspoleczny.pl/wp-content/uploads/2025/07/obraze-na-kino.jpg
END:VEVENT
BEGIN:VEVENT
DTSTART;TZID=Europe/Warsaw:20250823T193000
DTEND;TZID=Europe/Warsaw:20250823T220000
DTSTAMP:20260419T141534
CREATED:20250813T141428Z
LAST-MODIFIED:20250813T143516Z
UID:1039-1755977400-1755986400@miesienspoleczny.pl
SUMMARY:Brass Riders & Retro Kino z Panem Zenkiem
DESCRIPTION:Przystanek Zielono!				\n				\n					\n				\n		\n				\n																\n															\n															\n		\n				\n									Data: 								\n				\n				\n					\n		\n			20 września\, 2025\n\n	\n\n	  @ \n\n\n12:00\n\n		\n\n\n\n	\n	  -  \n\n16:00\n\n\n\n	\n				\n				\n				\n									Organizator: 								\n				\n				\n					\n	\n	Sołectwo Kiełczów\n	Mięsień Społeczny\n				\n				\n				\n									Miejsce: 								\n				\n				\n					\n				\n				\n	\n	Kościół NMP Różańcowej\n	\n	\n\nWrocławska 79\n	\n		\n		Kiełczów\,\n\n	Dolnośląskie\n\n	55-093\n\n	Poland\n\n\n\n\n	+ Mapa Google \n\n\n	\n					\n						\n	 \n\n\n	\n	 \n\n\n\n	\n\n\n\n		\n	\n				\n				\n				\n				\n					\n	\n		\n\n	\n	Dodaj do kalendarza	\n		\n	\n\n		\n			\n									\n	Kalendarz Google\n\n									\n	iKalendarz\n\n									\n	Outlook 365\n\n									\n	Outlook na żywo\n\n							\n		\n\n		\n	\n\n				\n				\n				\n				\n		\n					\n				\n									„Przystanek Zielono” w Kiełczowie to nie tylko zwykła inicjatywa lokalna – to próba zmiany terenu w centrum Kiełczowa\, które jest naszą wizytówką. Projekt Rady Sołeckiej we współpracy z Fundacją „Merkury” oraz pomysłem Weroniki Kierzkowskiej z Mięśnia z hasłem „Szanuj zieleń i… przystanek” – ma na celu dodanie smutnemu i betonowemu miejscu trochę nowego życia. Czym dokładnie się zajmiemy?– Montażem trejażu dla pnączy\, który nie tylko ozdobi\, ale i stworzy naturalną osłonę od słońca– przygotowaniem gleby i zasadzeniem roślin\,– posadowieniem donic z kwiatami.Będzie też czas na integrację mieszkańców – rozmowy i wymianę doświadczeń przy drobnym poczęstunku. Zapraszamy do wspólnego działania! Nasza inicjatywa (pierwsza w tym obszarze\, ale nie ostatnia!) to okazja\, aby:– poprawić estetykę i klimat centralnego miejsca Kiełczowa\,– przełamać betonowy charakter przestrzeni\,– zwiększyć komfort osób oczekujących na przystanku– zacieśnić więzi sąsiedzkie przy wspólnej pracy\, rozmowie i słodkim poczęstunku. Do zobaczenia 20 września o godzinie 12:00 na parkingu przy parafii pw. NMP Różańcowej! Każda pomoc się liczy! Strona projektu Link do wydarzenia na Facebook
URL:https://miesienspoleczny.pl/wydarzenie/brass-riders-retro-kino-z-panem-zenkiem/
LOCATION:Gminny Ośrodek Kultury w Długołęce\, Polna 1A\, Długołeka\, Dolnośląskie\, 55-095\, Poland
ATTACH;FMTTYPE=image/jpeg:https://miesienspoleczny.pl/wp-content/uploads/2025/08/Retro-kino-zajawka.jpg
ORGANIZER;CN="Gminny O%C5%9Brodek Kultury w D%C5%82ugo%C5%82%C4%99ce":MAILTO:kontakt@gokdlugoleka.pl
END:VEVENT
BEGIN:VEVENT
DTSTART;VALUE=DATE:20250816
DTEND;VALUE=DATE:20250817
DTSTAMP:20260419T141534
CREATED:20250718T193336Z
LAST-MODIFIED:20250814T173745Z
UID:78-1755302400-1755388799@miesienspoleczny.pl
SUMMARY:Rowerowe ostatki Pumpuj Łydę!
DESCRIPTION:Przystanek Zielono!				\n				\n					\n				\n		\n				\n																\n															\n															\n		\n				\n									Data: 								\n				\n				\n					\n		\n			20 września\, 2025\n\n	\n\n	  @ \n\n\n12:00\n\n		\n\n\n\n	\n	  -  \n\n16:00\n\n\n\n	\n				\n				\n				\n									Organizator: 								\n				\n				\n					\n	\n	Sołectwo Kiełczów\n	Mięsień Społeczny\n				\n				\n				\n									Miejsce: 								\n				\n				\n					\n				\n				\n	\n	Kościół NMP Różańcowej\n	\n	\n\nWrocławska 79\n	\n		\n		Kiełczów\,\n\n	Dolnośląskie\n\n	55-093\n\n	Poland\n\n\n\n\n	+ Mapa Google \n\n\n	\n					\n						\n	 \n\n\n	\n	 \n\n\n\n	\n\n\n\n		\n	\n				\n				\n				\n				\n					\n	\n		\n\n	\n	Dodaj do kalendarza	\n		\n	\n\n		\n			\n									\n	Kalendarz Google\n\n									\n	iKalendarz\n\n									\n	Outlook 365\n\n									\n	Outlook na żywo\n\n							\n		\n\n		\n	\n\n				\n				\n				\n				\n		\n					\n				\n									„Przystanek Zielono” w Kiełczowie to nie tylko zwykła inicjatywa lokalna – to próba zmiany terenu w centrum Kiełczowa\, które jest naszą wizytówką. Projekt Rady Sołeckiej we współpracy z Fundacją „Merkury” oraz pomysłem Weroniki Kierzkowskiej z Mięśnia z hasłem „Szanuj zieleń i… przystanek” – ma na celu dodanie smutnemu i betonowemu miejscu trochę nowego życia. Czym dokładnie się zajmiemy?– Montażem trejażu dla pnączy\, który nie tylko ozdobi\, ale i stworzy naturalną osłonę od słońca– przygotowaniem gleby i zasadzeniem roślin\,– posadowieniem donic z kwiatami.Będzie też czas na integrację mieszkańców – rozmowy i wymianę doświadczeń przy drobnym poczęstunku. Zapraszamy do wspólnego działania! Nasza inicjatywa (pierwsza w tym obszarze\, ale nie ostatnia!) to okazja\, aby:– poprawić estetykę i klimat centralnego miejsca Kiełczowa\,– przełamać betonowy charakter przestrzeni\,– zwiększyć komfort osób oczekujących na przystanku– zacieśnić więzi sąsiedzkie przy wspólnej pracy\, rozmowie i słodkim poczęstunku. Do zobaczenia 20 września o godzinie 12:00 na parkingu przy parafii pw. NMP Różańcowej! Każda pomoc się liczy! Strona projektu Link do wydarzenia na Facebook
URL:https://miesienspoleczny.pl/wydarzenie/ostatnie-kilometry/
LOCATION:FitStrefa\, Wrocławska 44\, Kiełczów\, 55-093\, Poland
ATTACH;FMTTYPE=image/jpeg:https://miesienspoleczny.pl/wp-content/uploads/2025/07/Kolarz.jpg
END:VEVENT
END:VCALENDAR