BEGIN:VCALENDAR
VERSION:2.0
PRODID:-//MIĘSIEŃ SPOŁECZNY - ECPv6.15.18//NONSGML v1.0//EN
CALSCALE:GREGORIAN
METHOD:PUBLISH
X-WR-CALNAME:MIĘSIEŃ SPOŁECZNY
X-ORIGINAL-URL:https://miesienspoleczny.pl
X-WR-CALDESC:Wydarzenia dla MIĘSIEŃ SPOŁECZNY
REFRESH-INTERVAL;VALUE=DURATION:PT1H
X-Robots-Tag:noindex
X-PUBLISHED-TTL:PT1H
BEGIN:VTIMEZONE
TZID:Europe/Warsaw
BEGIN:DAYLIGHT
TZOFFSETFROM:+0100
TZOFFSETTO:+0200
TZNAME:CEST
DTSTART:20240331T010000
END:DAYLIGHT
BEGIN:STANDARD
TZOFFSETFROM:+0200
TZOFFSETTO:+0100
TZNAME:CET
DTSTART:20241027T010000
END:STANDARD
BEGIN:DAYLIGHT
TZOFFSETFROM:+0100
TZOFFSETTO:+0200
TZNAME:CEST
DTSTART:20250330T010000
END:DAYLIGHT
BEGIN:STANDARD
TZOFFSETFROM:+0200
TZOFFSETTO:+0100
TZNAME:CET
DTSTART:20251026T010000
END:STANDARD
BEGIN:DAYLIGHT
TZOFFSETFROM:+0100
TZOFFSETTO:+0200
TZNAME:CEST
DTSTART:20260329T010000
END:DAYLIGHT
BEGIN:STANDARD
TZOFFSETFROM:+0200
TZOFFSETTO:+0100
TZNAME:CET
DTSTART:20261025T010000
END:STANDARD
END:VTIMEZONE
BEGIN:VEVENT
DTSTART;TZID=Europe/Warsaw:20250823T193000
DTEND;TZID=Europe/Warsaw:20250823T220000
DTSTAMP:20260419T154552
CREATED:20250813T141428Z
LAST-MODIFIED:20250813T143516Z
UID:1039-1755977400-1755986400@miesienspoleczny.pl
SUMMARY:Brass Riders & Retro Kino z Panem Zenkiem
DESCRIPTION:Brass Riders & Retro Kino z Panem Zenkiem				\n				\n					\n				\n		\n				\n																\n															\n															\n		\n				\n									Data: 								\n				\n				\n					\n		\n			23 sierpnia\, 2025\n\n	\n\n	  @ \n\n\n19:30\n\n		\n\n\n\n	\n	  -  \n\n22:00\n\n\n\n	\n				\n				\n				\n									Organizator: 								\n				\n				\n					\n	\n	Gminny Ośrodek Kultury w Długołęce\n	\n\n				\n				\n				\n									Miejsce: 								\n				\n				\n					\n				\n				\n	\n	Gminny Ośrodek Kultury w Długołęce\n	\n	\n\nPolna 1A\n	\n		\n		Długołeka\,\n\n	Dolnośląskie\n\n	55-095\n\n	Poland\n\n\n\n\n	+ Mapa Google \n\n\n	\n					\n			+48 531 483 030			\n	 \n\n\n	\n	Zobacz witrynę internetową Miejsce \n\n\n\n	\n\n\n\n		\n	\n				\n				\n				\n				\n					\n	\n		\n\n	\n	Dodaj do kalendarza	\n		\n	\n\n		\n			\n									\n	Kalendarz Google\n\n									\n	iKalendarz\n\n									\n	Outlook 365\n\n									\n	Outlook na żywo\n\n							\n		\n\n		\n	\n\n				\n				\n				\n				\n		\n					\n				\n									Wieczór muzyki i kina w GOK Długołęka Już 23.08.2025 czeka Was niezwykłe spotkanie z dźwiękiem i obrazem – zaczniemy od energetycznego koncertu\, by później zanurzyć się w klimacie starego kina pod gołym niebem.   Brass Riders to jeden z najbardziej utalentowanych kwartetów blaszanych w Polsce – zespół\, który z pasją odkrywa przed publicznością piękno brzmienia instrumentów dętych. Czterech wybitnych muzyków:Tomasz Stolarczyk\,Andrzej Tkaczyk\,Tomasz GajewskiJarosław Jastrzębski\,na co dzień związanych z Filharmonią Krakowską\, zabiorą Was w muzyczną podróż – od klasyki kameralnej po znane tematy filmowe. Usłyszycie utwory z ich najnowszej płyty „Polska Muzyka Filmowa”\, wydanej w marcu 2025 roku – w autorskich aranżacjach Tomasza Stolarczyka\, które tchnęły nowe życie w dźwięki znane z wielkiego ekranu.  Po koncercie – coś absolutnie wyjątkowego:Retro Kino z Panem Zenkiem – żywą legendą dolnośląskiego kina objazdowego.Pan Zenek przemierzał powiaty trzebnicki\, oleśnicki i milicki\, najpierw jako ajent OPRF-u\, potem już z własną pasją\, kolekcjonując filmy\, sprzęt projekcyjny i kinowe plakaty. Dziś dzieli się tym dziedzictwem z kolejnymi pokoleniami widzów. Dzięki niemu w letni wieczór GOK Długołęka zamieni się w kino sprzed lat – z duszą\, z historią\, z magią. Na ekranie zobaczymy film: “Mściciel znad Żółtej Rzeki” (1986).  Gdzie: GOK Długołęka (teren przy GOK) Kiedy: 23.08.2025Start koncertu: 19:30Start filmu: 20:30 Wstęp: wolny Nie przegapcie tego wyjątkowego połączenia Czeka Was wieczór\, który zostanie w Waszej pamięci na długo! Źródło: GOK Długołęka
URL:https://miesienspoleczny.pl/wydarzenie/brass-riders-retro-kino-z-panem-zenkiem/
LOCATION:Gminny Ośrodek Kultury w Długołęce\, Polna 1A\, Długołeka\, Dolnośląskie\, 55-095\, Poland
ATTACH;FMTTYPE=image/jpeg:https://miesienspoleczny.pl/wp-content/uploads/2025/08/Retro-kino-zajawka.jpg
ORGANIZER;CN="Gminny O%C5%9Brodek Kultury w D%C5%82ugo%C5%82%C4%99ce":MAILTO:kontakt@gokdlugoleka.pl
END:VEVENT
END:VCALENDAR