BEGIN:VCALENDAR
VERSION:2.0
PRODID:-//MIĘSIEŃ SPOŁECZNY - ECPv6.15.18//NONSGML v1.0//EN
CALSCALE:GREGORIAN
METHOD:PUBLISH
X-WR-CALNAME:MIĘSIEŃ SPOŁECZNY
X-ORIGINAL-URL:https://miesienspoleczny.pl
X-WR-CALDESC:Wydarzenia dla MIĘSIEŃ SPOŁECZNY
REFRESH-INTERVAL;VALUE=DURATION:PT1H
X-Robots-Tag:noindex
X-PUBLISHED-TTL:PT1H
BEGIN:VTIMEZONE
TZID:Europe/Warsaw
BEGIN:DAYLIGHT
TZOFFSETFROM:+0100
TZOFFSETTO:+0200
TZNAME:CEST
DTSTART:20240331T010000
END:DAYLIGHT
BEGIN:STANDARD
TZOFFSETFROM:+0200
TZOFFSETTO:+0100
TZNAME:CET
DTSTART:20241027T010000
END:STANDARD
BEGIN:DAYLIGHT
TZOFFSETFROM:+0100
TZOFFSETTO:+0200
TZNAME:CEST
DTSTART:20250330T010000
END:DAYLIGHT
BEGIN:STANDARD
TZOFFSETFROM:+0200
TZOFFSETTO:+0100
TZNAME:CET
DTSTART:20251026T010000
END:STANDARD
BEGIN:DAYLIGHT
TZOFFSETFROM:+0100
TZOFFSETTO:+0200
TZNAME:CEST
DTSTART:20260329T010000
END:DAYLIGHT
BEGIN:STANDARD
TZOFFSETFROM:+0200
TZOFFSETTO:+0100
TZNAME:CET
DTSTART:20261025T010000
END:STANDARD
END:VTIMEZONE
BEGIN:VEVENT
DTSTART;TZID=Europe/Warsaw:20250913T100000
DTEND;TZID=Europe/Warsaw:20250920T180000
DTSTAMP:20260419T154639
CREATED:20250829T195224Z
LAST-MODIFIED:20250829T200102Z
UID:1271-1757757600-1758391200@miesienspoleczny.pl
SUMMARY:DOBROSZÓW OPEN 2025
DESCRIPTION:DOBROSZÓW OPEN 2025				\n				\n					\n				\n		\n				\n																\n															\n															\n		\n				\n									Data: 								\n				\n				\n					\n		\n			13 września\, 2025\n\n	\n\n	  @ \n\n\n10:00\n\n	\n\n		\n	\n	  -  \n\n	20 września\, 2025\n\n	\n\n	  @ \n\n\n18:00\n\n\n\n	\n				\n				\n				\n									Organizator: 								\n				\n				\n					\n	\n	Stowarzyszenie Tenisa Ziemnego “Match point Dobroszów”\n	\n\n				\n				\n				\n									Miejsce: 								\n				\n				\n					\n				\n				\n	\n	Dobroszów Oleśnicki\n	\n	\n\n\n	Dobroszów Oleśnicki\,\n\n	Dolnośląskie\n\n	55-095\n\n	Poland\n\n\n\n\n	+ Mapa Google \n\n\n	\n					\n						\n	 \n\n\n	\n	 \n\n\n\n	\n\n\n\n		\n	\n				\n				\n				\n				\n					\n	\n		\n\n	\n	Dodaj do kalendarza	\n		\n	\n\n		\n			\n									\n	Kalendarz Google\n\n									\n	iKalendarz\n\n									\n	Outlook 365\n\n									\n	Outlook na żywo\n\n							\n		\n\n		\n	\n\n				\n				\n				\n				\n		\n					\n				\n									Rusza Pierwszy Turniej o Puchar Dobroszowa!🎾 DOBROSZÓW OPEN 2025 🎾Turniej Tenisa Ziemnego Stowarzyszenia Match Point Dobroszów pod patronatem Sołtyski Dobroszowa  📌 INFORMACJE OGÓLNE✅ Limit uczestników: 16 zawodników✅ Wpisowe: 100 zł (obejmuje udział w turnieju\, minimum 3 mecze\, piłeczki\, wodę)✅ Nagrody: Puchary i nagrody rzeczowe dla 3 najlepszych zawodników✅ Termin zapisów: do 10 września 2025 (zapisy w wiadomości Facebook lub przez maila Stz.matchpoint@gmail.com)✅ Turniej dziecięcy: dla uczestników poniżej 15 roku życia – udział bez wpisowego✅ Poczęstunek (grill): podczas finałów 20 września – zapraszamy wszystkich uczestników\, także tych\, którzy odpadną w kwalifikacjach 📅 TERMINARZKwalifikacje – 13–14 września 2025• 4 grupy po 4 zawodników\, każdy gra z każdym• Mecze: 2 sety do 4 gemów\, w przypadku remisu 1:1 – tie-break do 7Proponowany harmonogram:Sobota\, 13.09• Grupa A – godz. 10:00• Grupa B – godz. 15:00Niedziela\, 14.09• Grupa C – godz. 10:00• Grupa D – godz. 15:00➡ Z każdej grupy wychodzi po 2 zawodników = 8 miejsc w ćwierćfinałach. Ćwierćfinały\, półfinały i finał – 20 września 2025• System pucharowy• Mecze: 2 sety do 6 gemów (przy stanie 1:1 – super tie-break do 10)Rozstawienie ćwierćfinałów:• 1A vs 2B• 2A vs 1B• 1C vs 2D• 2C vs 1D 📝 REGULAMIN DOBROSZÓW OPEN 20251. Organizator: STZ Match Point Dobroszów 2. Patronat honorowy: Sołtyska Dobroszowa3. Uczestnicy: Turniej otwarty\, maksymalnie 16 zawodników + turniej dziecięcy (do 15 lat\, bez wpisowego).4. System gry:• Kwalifikacje – faza grupowa (4 grupy po 4 osoby)\, każdy zawodnik rozgrywa min. 3 mecze.* W grupie najważniejsze bezpośrednio są: zdobyte punkty – bezpośrednie mecze – bilans gemów.• Ćwierćfinały\, półfinały\, finał – system pucharowy.5. Zasady meczów:• Kwalifikacje: 2 sety do 4 gemów\, przy remisie 1:1 – tie-break do 7.• Ćwierćfinały\, półfinały\, finał: 2 sety do 6 gemów\, przy remisie 1:1 – super tie-break do 10.6. Sędziowanie: Mecze sędziują zawodnicy wolni w danej kolejce.7. Sprzęt: Organizator zapewnia piłeczki 8. Nagrody: Dla 3 najlepszych zawodników puchary i nagrody rzeczowe.9. Wpisowe: 100 zł od zawodnika (nie dotyczy dzieci do 15 lat). W cenie: udział w turnieju\, piłeczki\, woda.10. Poczęstunek: Grill i napoje podczas finałów 20 września – dla wszystkich uczestników turnieju\, także tych\, którzy zakończyli grę w kwalifikacjach.11. Postanowienia końcowe:• Organizator zastrzega sobie prawo do zmian w harmonogramie w przypadku złych warunków pogodowych.• Każdy zawodnik odpowiada za swój stan zdrowia i udział w turnieju na własną odpowiedzialność.• Zgłoszenie do turnieju oznacza akceptację niniejszego regulaminu. PS. Turniej tylko dla amatorów (nie przyjmujemy zgłoszeń od członków PZT) PS2. Udział w turnieju jest równoznaczny ze zgodą na wykorzystanie wizerunku tj.: zdjęcia\, filmy\, akcje promocyjne. Do zobaczenia   Informacje pochodzą z FB Match Point Dobroszów Link do wydarzenia na Facebook
URL:https://miesienspoleczny.pl/wydarzenie/dobroszow-open-2025/
LOCATION:Dobroszów Oleśnicki\, Dobroszów Oleśnicki\, Dolnośląskie\, 55-095\, Poland
ATTACH;FMTTYPE=image/jpeg:https://miesienspoleczny.pl/wp-content/uploads/2025/08/tenis-zajawka.jpg
END:VEVENT
END:VCALENDAR