BEGIN:VCALENDAR
VERSION:2.0
PRODID:-//MIĘSIEŃ SPOŁECZNY - ECPv6.15.18//NONSGML v1.0//EN
CALSCALE:GREGORIAN
METHOD:PUBLISH
X-WR-CALNAME:MIĘSIEŃ SPOŁECZNY
X-ORIGINAL-URL:https://miesienspoleczny.pl
X-WR-CALDESC:Wydarzenia dla MIĘSIEŃ SPOŁECZNY
REFRESH-INTERVAL;VALUE=DURATION:PT1H
X-Robots-Tag:noindex
X-PUBLISHED-TTL:PT1H
BEGIN:VTIMEZONE
TZID:Europe/Warsaw
BEGIN:DAYLIGHT
TZOFFSETFROM:+0100
TZOFFSETTO:+0200
TZNAME:CEST
DTSTART:20240331T010000
END:DAYLIGHT
BEGIN:STANDARD
TZOFFSETFROM:+0200
TZOFFSETTO:+0100
TZNAME:CET
DTSTART:20241027T010000
END:STANDARD
BEGIN:DAYLIGHT
TZOFFSETFROM:+0100
TZOFFSETTO:+0200
TZNAME:CEST
DTSTART:20250330T010000
END:DAYLIGHT
BEGIN:STANDARD
TZOFFSETFROM:+0200
TZOFFSETTO:+0100
TZNAME:CET
DTSTART:20251026T010000
END:STANDARD
BEGIN:DAYLIGHT
TZOFFSETFROM:+0100
TZOFFSETTO:+0200
TZNAME:CEST
DTSTART:20260329T010000
END:DAYLIGHT
BEGIN:STANDARD
TZOFFSETFROM:+0200
TZOFFSETTO:+0100
TZNAME:CET
DTSTART:20261025T010000
END:STANDARD
END:VTIMEZONE
BEGIN:VEVENT
DTSTART;TZID=Europe/Warsaw:20250928T130000
DTEND;TZID=Europe/Warsaw:20250928T180000
DTSTAMP:20260419T141614
CREATED:20250813T121419Z
LAST-MODIFIED:20250918T141355Z
UID:1012-1759064400-1759082400@miesienspoleczny.pl
SUMMARY:Kiełczowski Festyn Rodzinny
DESCRIPTION:Kiełczowski Festyn Rodzinny				\n				\n					\n				\n		\n				\n																\n															\n															\n		\n				\n									Data: 								\n				\n				\n					\n		\n			28 września\, 2025\n\n	\n\n	  @ \n\n\n13:00\n\n		\n\n\n\n	\n	  -  \n\n18:00\n\n\n\n	\n				\n				\n				\n									Organizator: 								\n				\n				\n					\n	\n	Sołectwo Kiełczów\n	\n\n				\n				\n				\n									Miejsce: 								\n				\n				\n					\n				\n				\n	\n	Kościół NMP Różańcowej\n	\n	\n\nWrocławska 79\n	\n		\n		Kiełczów\,\n\n	Dolnośląskie\n\n	55-093\n\n	Poland\n\n\n\n\n	+ Mapa Google \n\n\n	\n					\n						\n	 \n\n\n	\n	 \n\n\n\n	\n\n\n\n		\n	\n				\n				\n				\n				\n					\n	\n		\n\n	\n	Dodaj do kalendarza	\n		\n	\n\n		\n			\n									\n	Kalendarz Google\n\n									\n	iKalendarz\n\n									\n	Outlook 365\n\n									\n	Outlook na żywo\n\n							\n		\n\n		\n	\n\n				\n				\n				\n				\n		\n					\n				\n									14 września Sołtys Kiełczowa wraz z Radą Sołecką zaprasza na Kiełczowski Festyn Rodzinny\, który odbędzie się na zielonym terenie Parafia pw. NMP Różańcowej w Kiełczowie. W godzinach 13:00 do 18:00 spędzimy aktywnie razem czas\, pojawią się lokalni wystawcy\, swoje przysmaki będzie serwować Koło Gospodyń Wiejskich Kiełczów\, dla dzieci przewidujemy darmowe dmuchańce. Liczymy na integrację\, liczną frekwencję. Do zobaczenia   Link do wydarzenia na Facebook
URL:https://miesienspoleczny.pl/wydarzenie/festyn-kielczowski/
LOCATION:Kościół NMP Różańcowej\, Wrocławska 79\, Kiełczów\, Dolnośląskie\, 55-093\, Poland
ATTACH;FMTTYPE=image/jpeg:https://miesienspoleczny.pl/wp-content/uploads/2025/08/festyn-zajawka.jpg
END:VEVENT
END:VCALENDAR