BEGIN:VCALENDAR
VERSION:2.0
PRODID:-//MIĘSIEŃ SPOŁECZNY - ECPv6.15.18//NONSGML v1.0//EN
CALSCALE:GREGORIAN
METHOD:PUBLISH
X-WR-CALNAME:MIĘSIEŃ SPOŁECZNY
X-ORIGINAL-URL:https://miesienspoleczny.pl
X-WR-CALDESC:Wydarzenia dla MIĘSIEŃ SPOŁECZNY
REFRESH-INTERVAL;VALUE=DURATION:PT1H
X-Robots-Tag:noindex
X-PUBLISHED-TTL:PT1H
BEGIN:VTIMEZONE
TZID:Europe/Warsaw
BEGIN:DAYLIGHT
TZOFFSETFROM:+0100
TZOFFSETTO:+0200
TZNAME:CEST
DTSTART:20240331T010000
END:DAYLIGHT
BEGIN:STANDARD
TZOFFSETFROM:+0200
TZOFFSETTO:+0100
TZNAME:CET
DTSTART:20241027T010000
END:STANDARD
BEGIN:DAYLIGHT
TZOFFSETFROM:+0100
TZOFFSETTO:+0200
TZNAME:CEST
DTSTART:20250330T010000
END:DAYLIGHT
BEGIN:STANDARD
TZOFFSETFROM:+0200
TZOFFSETTO:+0100
TZNAME:CET
DTSTART:20251026T010000
END:STANDARD
BEGIN:DAYLIGHT
TZOFFSETFROM:+0100
TZOFFSETTO:+0200
TZNAME:CEST
DTSTART:20260329T010000
END:DAYLIGHT
BEGIN:STANDARD
TZOFFSETFROM:+0200
TZOFFSETTO:+0100
TZNAME:CET
DTSTART:20261025T010000
END:STANDARD
END:VTIMEZONE
BEGIN:VEVENT
DTSTART;TZID=Europe/Warsaw:20250830T150000
DTEND;TZID=Europe/Warsaw:20250830T233000
DTSTAMP:20260419T154244
CREATED:20250718T193323Z
LAST-MODIFIED:20250813T111905Z
UID:85-1756566000-1756596600@miesienspoleczny.pl
SUMMARY:Letnie kino plenerowe
DESCRIPTION:Letnie kino plenerowe				\n				\n					\n				\n		\n				\n																\n															\n															\n		\n				\n									Data: 								\n				\n				\n					\n		\n			30 sierpnia\, 2025\n\n	\n\n	  @ \n\n\n15:00\n\n		\n\n\n\n	\n	  -  \n\n23:30\n\n\n\n	\n				\n				\n				\n									Organizator: 								\n				\n				\n					\n	\n	Sołectwo Kiełczów\n	Sołectwo Wilczyce\n	Rodzinny Ogród Działkowy “Sezam”\n				\n				\n				\n									Miejsce: 								\n				\n				\n					\n				\n				\n	\n	Rodzinny Ogród Działkowy SEZAM\n	\n	\n\n45V4+3G Kiełczów\n	\n		\n		Kiełczów\,\n\n	Dolnośląskie\n\n	55-093\n\n	Poland\n\n\n\n\n	+ Mapa Google \n\n\n	\n					\n						\n	 \n\n\n	\n	 \n\n\n\n	\n\n\n\n		\n	\n				\n				\n				\n				\n					\n	\n		\n\n	\n	Dodaj do kalendarza	\n		\n	\n\n		\n			\n									\n	Kalendarz Google\n\n									\n	iKalendarz\n\n									\n	Outlook 365\n\n									\n	Outlook na żywo\n\n							\n		\n\n		\n	\n\n				\n				\n				\n				\n		\n					\n				\n					Sołtysi Piotr Duszeńko (Kiełczów) i Krzysztof Kaźmierczak (Wilczyce) wraz z Radami Sołeckimi oraz ROD Sezam zapraszają w sobotę\, 30 sierpnia na wspólne świętowanie i sąsiedzką integrację!				\n				\n				\n										\n					\n						\n							\n															Rodzinne Ogródki Działkowe "SEZAM"  godz. 15:00–21:00 		\n													\n							\n															Piknik Rodzinny 		\n														\n													\n							\n															W programie:  		\n														\n							\n							\n															\n																																\n																											\n																										dmuchańce dla najmłodszych\n												\n																				\n	\n																																	\n																											\n																										grill dla mieszkańców\n												\n																				\n	\n																																	\n																											\n																										DJ\, chillout i muzyka do wieczora\n												\n																				\n	\n																																	\n																											\n																										konkursy z nagrodami dla dzieci i dorosłych\n												\n																				\n	\n																																	\n																											\n																										bańki XXL\n												\n																				\n	\n												\n																	\n									\n														\n						\n					\n\n								\n				\n				\n				\n										\n					\n						\n							\n															Obiekt Leśna\, Wilczyce/Kiełczów\, ul. Leśna 3A (tuż obok działek)  godz. 21:00 		\n													\n							\n															Kino Plenerowe		\n														\n													\n							\n															W programie:  		\n														\n							\n							\n															\n																																\n																											\n																										21:00 – Panel Dyskusyjny\n„Czy chłopaki nadal nie płaczą?”\nRozmowa o współczesnej męskości i kobiecości.\nPanel poprowadzi Agnieszka Krawczyk.\n												\n																				\n	\n																																	\n																											\n																										21:45 – Seans filmowy „Chłopaki nie płaczą”\, reż. Olaf Lubaszenko – Kultowa komedia pod gołym niebem.\n												\n																				\n	\n												\n																	\n									\n														\n						\n					\n\n								\n				\n					\n				\n		\n					\n				\n									Co zabrać? koc piknikowy lub leżakcoś na komary 😉znajomychdobry humor i sąsiedzką energię!Im więcej nas\, tym lepiej!To idealna okazja\, żeby się poznać\, pośmiać\, porozmawiać i po prostu — pobyć razem. Nie przegap finału wakacji w dobrym towarzystwie!
URL:https://miesienspoleczny.pl/wydarzenie/kino-letnie/
LOCATION:Rodzinny Ogród Działkowy SEZAM\, 45V4+3G Kiełczów\, Kiełczów\, Dolnośląskie\, 55-093\, Poland
ATTACH;FMTTYPE=image/jpeg:https://miesienspoleczny.pl/wp-content/uploads/2025/07/obraze-na-kino.jpg
END:VEVENT
END:VCALENDAR